Workbook

Sheet 2019
B1: contatore 1 | C1: contatore 2 | D1: contatore 3 | E1: contatore 4 | F1: contatore 5 | G1: contatore 6
B2: VIA MARINO 76234664 | C2: VIA GIOVANNI XXIII 76328765 | D2: VIA IV NOVEMBRE 76554560 | E2: LOC. VISCONTE 76554643 | F2: LOC. SCOPPOLISE 76554983 | G2: LOC. BONAVENTURA 76555750
A3: consumi kwh gennaio 2019 | B3: 979.99 | C3: 1.51 | D3: 2048.84 | E3: 1997.12 | F3: 1029.91 | G3: 544.68
A4: consumi kwh febbraio 2019 | B4: 818.37 | C4: 1.25 | D4: 1963.73 | E4: 1658.74 | F4: 874.41 | G4: 460.82
A5: consumi kwh marzo 2019 | B5: 824 | C5: 999 | D5: 2000 | E5: 1642 | F5: 837 | G5: 450
A6: consumi kwh aprile 2019 | B6: 730 | C6: 833 | D6: 1846 | E6: 1442 | F6: 748 | G6: 405
A7: TOTALE | B7: =SUM(B3:B6) -> 3352.36 | C7: =SUM(C3:C6) -> 1834.76 | D7: =SUM(D3:D6) -> 7858.57 | E7: =SUM(E3:E6) -> 6739.86 | F7: =SUM(F3:F6) -> 3489.32 | G7: =SUM(G3:G6) -> 1860.5

Sheet 2020
B1: contatore 1 | C1: contatore 2 (stimati) | D1: contatore 3 | E1: contatore 4 | F1: contatore 5 | G1: contatore 6
B2: VIA MARINO 76234664 | C2: VIA GIOVANNI XXIII 76328765 | D2: VIA IV NOVEMBRE 76554560 | E2: LOC. VISCONTE 76554643 | F2: LOC. SCOPPOLISE 76554983 | G2: LOC. BONAVENTURA 76555750
A3: consumi kwh gennaio 2020 | B3: 471 | C3: 1488 | D3: 1172 | E3: 803 | F3: 427 | G3: 226
A4: consumi kwh febbraio 2020 | B4: 406 | C4: 1260 | D4: 1002 | E4: 668 | F4: 373 | G4: 171
A5: consumi kwh marzo 2020 | B5: 389 | C5: 1175 | D5: 955 | E5: 692 | F5: 353 | G5: 175
A6: consumi kwh aprile 2020 | B6: 337 | C6: 1007 | D6: 819 | E6: 582 | F6: 296 | G6: 144
A7: TOTALE | B7: =SUM(B3:B6) -> 1603 | C7: =SUM(C3:C6) -> 4930 | D7: =SUM(D3:D6) -> 3948 | E7: =SUM(E3:E6) -> 2745 | F7: =SUM(F3:F6) -> 1449 | G7: =SUM(G3:G6) -> 716

Sheet Raffronto
A1: CONTATORE | B1: 1 QUADRIMESTRE 2019 | C1: 1 QUADRIMESTRE 2020 | D1: DIFFERENZA
A2: ='2019'!B2 -> VIA MARINO 76234664 | B2: ='2019'!B7 -> 3352.36 | C2: ='2020'!B7 -> 1603 | D2: =C2-B2 -> -1749.36 | E2: =(C2*100)/B2 -> 47.81706
A3: ='2019'!C2 -> VIA GIOVANNI XXIII 76328765 | B3: ='2019'!C7 -> 1834.76 | C3: ='2020'!C7 -> 4930 | D3: =C3-B3 -> 3095.24 | E3: =(C3*100)/B3 -> 268.69999
A4: ='2019'!D2 -> VIA IV NOVEMBRE 76554560 | B4: ='2019'!D7 -> 7858.57 | C4: ='2020'!D7 -> 3948 | D4: =C4-B4 -> -3910.57 | E4: =(C4*100)/B4 -> 50.238148
A5: ='2019'!E2 -> LOC. VISCONTE 76554643 | B5: ='2019'!E7 -> 6739.86 | C5: ='2020'!E7 -> 2745 | D5: =C5-B5 -> -3994.86 | E5: =(C5*100)/B5 -> 40.727849
A6: ='2019'!F2 -> LOC. SCOPPOLISE 76554983 | B6: ='2019'!F7 -> 3489.32 | C6: ='2020'!F7 -> 1449 | D6: =C6-B6 -> -2040.32 | E6: =(C6*100)/B6 -> 41.526716
A7: ='2019'!G2 -> LOC. BONAVENTURA 76555750 | B7: ='2019'!G7 -> 1860.5 | C7: ='2020'!G7 -> 716 | D7: =C7-B7 -> -1144.5 | E7: =(C7*100)/B7 -> 38.484278
A8: TOTALE | B8: =SUM(B2:B7) -> 25135.37 | C8: =SUM(C2:C7) -> 15391 | D8: =SUM(D2:D7) -> -9744.37 | E8: =(C8*100)/B8 -> 61.232439
